BEGIN:VCALENDAR
VERSION:2.0
PRODID:-//ChamberMaster//Event Calendar 2.0//EN
METHOD:PUBLISH
X-PUBLISHED-TTL:P3D
REFRESH-INTERVAL:P3D
CALSCALE:GREGORIAN
BEGIN:VEVENT
DTSTART:20260502T003000Z
DTEND:20260502T013000Z
X-MICROSOFT-CDO-ALLDAYEVENT:FALSE
SUMMARY:Full Moon Nature Walk with Joanna Roche
DESCRIPTION:Join Joanna Roche on a peaceful one hour walk (up to 2 miles on uneven terrain) under the light of the full Moon. Discover the legends and narratives of the past and present. Enjoy the tranquility of the quiet night sky and learn about our Moon's current themes and its important symbolism.\n\nThe Flower Moon is the traditional name for the full Moon in May\, named by Native American tribes for the abundance of flowers blooming in North America as spring fully arrives\, symbolizing new growth\, fertility\, and the start of planting season\, with other names like Budding Moon or Planting Moon reflecting this vibrant\, renewing time.\n\nOur complimentary under the stars experience meets at a rotating location\, you will be emailed with the walk location on the day of the program. Pre-registration is required as space is limited. In the event of inclement weather\, the program will be cancelled and participants notified via email. This walk is designed to be interesting for adults and children ages 8 and older. Dress for the current weather conditions and bring your flashlights or headlamps! \n\nREGISTER\n\n\n\nCost per participant: Free\n\nContact email: programs@mariamitchell.org
X-ALT-DESC;FMTTYPE=text/html:<p><span style="color:rgb(20\, 61\, 94)\; font-family:trebuchet ms\,geneva\,sans-serif\; font-size:10pt">Join Joanna Roche on a peaceful one hour walk (up to 2 miles on uneven terrain) under the light of the full Moon. Discover the legends and narratives of the past and present. Enjoy the tranquility of the quiet night sky and learn about our Moon&#39\;s current themes and its important symbolism.</span></p>\n\n<p><span style="color:rgb(20\, 61\, 94)\; font-family:trebuchet ms\,geneva\,sans-serif\; font-size:10pt">The Flower Moon is the traditional name for the full Moon in May\, named by Native American tribes for the abundance of flowers blooming in North America as spring fully arrives\,&nbsp\;symbolizing new growth\, fertility\, and the start of planting season\, with other names like&nbsp\;<a href="https://www.google.com/search?sca_esv=8c1d8b7610d1bcd4&amp\;rlz=1C1RXQR_enUS1004US1004&amp\;q=Budding+Moon&amp\;sa=X&amp\;ved=2ahUKEwij1fWBjbaRAxXyD1kFHaGAFMUQxccNegQIdBAC&amp\;mstk=AUtExfAvE-2aKOPAbP_7IxT7i-MquEv018dFDo0XiRRUtfwWz77_h-ObLbJCxk7sNDvtE1qdLw9peouvbRl7Ge4HB6Ik-cC3NlTQFy-yj2ndF14n4H-Eim9tyElTE_MEg0aK9mJxHt_0bPmiQg3Tzk-vY7ZFMV7li-Z_e24BGbY1LRxkDTk&amp\;csui=3" rel="noopener" style="color: rgb(71\, 122\, 162)\; text-decoration-line: none\;" target="_blank">Budding Moon</a>&nbsp\;or&nbsp\;<a href="https://www.google.com/search?sca_esv=8c1d8b7610d1bcd4&amp\;rlz=1C1RXQR_enUS1004US1004&amp\;q=Planting+Moon&amp\;sa=X&amp\;ved=2ahUKEwij1fWBjbaRAxXyD1kFHaGAFMUQxccNegQIdBAD&amp\;mstk=AUtExfAvE-2aKOPAbP_7IxT7i-MquEv018dFDo0XiRRUtfwWz77_h-ObLbJCxk7sNDvtE1qdLw9peouvbRl7Ge4HB6Ik-cC3NlTQFy-yj2ndF14n4H-Eim9tyElTE_MEg0aK9mJxHt_0bPmiQg3Tzk-vY7ZFMV7li-Z_e24BGbY1LRxkDTk&amp\;csui=3" rel="noopener" style="color: rgb(71\, 122\, 162)\; text-decoration-line: none\;" target="_blank">Planting Moon</a>&nbsp\;reflecting this vibrant\, renewing time.</span></p>\n\n<p><span style="color:rgb(20\, 61\, 94)\; font-family:trebuchet ms\,geneva\,sans-serif\; font-size:10pt">Our complimentary under the stars experience meets at a rotating location\, you will be emailed with the walk location on the day of the program.<strong>&nbsp\;Pre-registration is required as space is limited. In the event of inclement weather\, the program will be cancelled and participants notified via email. This walk is designed to be interesting for adults and children ages 8 and older. Dress for the current weather conditions and bring your flashlights or headlamps!&nbsp\;</strong></span></p>\n\n<p><a href="https://112458a.blackbaudhosting.com/112458a/tickets?tab=3&amp\;txobjid=66bb77b2-068d-478e-b753-4372d156f2b7">REGISTER</a><br />\n<br />\n<em>Cost per participant: Free</em></p>\n\n<p><span style="color:rgb(20\, 61\, 94)\; font-family:trebuchet ms\,geneva\,sans-serif\; font-size:10pt"><em>Contact email:&nbsp\;<a href="mailto:programs@mariamitchell.org" style="color: rgb(20\, 61\, 94)\; text-decoration-line: none\;" target="_blank">programs@mariamitchell.org</a></em></span></p>\n
LOCATION:4 Vestal St. Nantucket\, MA 02554
UID:e.2764.57526
SEQUENCE:3
DTSTAMP:20260420T032358Z
URL:http://business.nantucketchamber.org/events/details/full-moon-nature-walk-with-joanna-roche-05-01-2026-57526
END:VEVENT

END:VCALENDAR
