BEGIN:VCALENDAR
VERSION:2.0
PRODID:-//ChamberMaster//Event Calendar 2.0//EN
METHOD:PUBLISH
X-PUBLISHED-TTL:P3D
REFRESH-INTERVAL:P3D
CALSCALE:GREGORIAN
BEGIN:VEVENT
DTSTART:20260601T003000Z
DTEND:20260601T013000Z
X-MICROSOFT-CDO-ALLDAYEVENT:FALSE
SUMMARY:Full Moon Nature Walk with Joanna Roche
DESCRIPTION:Join Joanna Roche on a peaceful one hour walk (up to 2 miles on uneven terrain) under the light of the full Moon. Discover the legends and narratives of the past and present. Enjoy the tranquility of the quiet night sky and learn about our Moon's current themes and its important symbolism.\n\nA blue moon isn't usually blue\; it's special because it is an extra-full moon. There are two common definitions: the second full moon in a single calendar month\, or the third full moon in a season that has four instead of the usual three. This happens every two to three years\, making it a relatively rare event. The name itself comes from the old saying "once in a blue moon" to describe something that happens infrequently.\n\nOur complimentary under the stars experience meets at a rotating location\, you will be emailed with the walk location on the day of the program. Pre-registration is required as space is limited. In the event of inclement weather\, the program will be cancelled and participants notified via email. This walk is designed to be interesting for adults and children ages 8 and older. Dress for the current weather conditions and bring your flashlights or headlamps! \n\nREGISTER\n\n\n\nCost per participant: Free\n\nContact email: programs@mariamitchell.org
X-ALT-DESC;FMTTYPE=text/html:<p><span style="font-family:trebuchet ms\,geneva\,sans-serif\; font-size:10pt">Join Joanna Roche on a peaceful one hour walk (up to 2 miles on uneven terrain) under the light of the full Moon. Discover the legends and narratives of the past and present. Enjoy the tranquility of the quiet night sky and learn about our Moon&#39\;s current themes and its important symbolism.</span></p>\n\n<p><span style="font-family:trebuchet ms\,geneva\,sans-serif\; font-size:10pt">A blue moon isn&#39\;t usually blue\;&nbsp\;it&#39\;s special because it is an extra-full moon.&nbsp\;There are two common definitions: the second full moon in a single calendar month\, or the third full moon in a season that has four instead of the usual three.&nbsp\;This happens every two to three years\, making it a relatively rare event.&nbsp\;The name itself comes from the old saying &quot\;once in a blue moon&quot\; to describe something that happens infrequently.</span></p>\n\n<p><span style="font-family:trebuchet ms\,geneva\,sans-serif\; font-size:10pt">Our complimentary under the stars experience meets at a rotating location\, you will be emailed with the walk location on the day of the program.&nbsp\;Pre-registration is required as space is limited. In the event of inclement weather\, the program will be cancelled and participants notified via email. This walk is designed to be interesting for adults and children ages 8 and older. Dress for the current weather conditions and bring your flashlights or headlamps!&nbsp\;</span></p>\n\n<p><a href="https://112458a.blackbaudhosting.com/112458a/tickets?tab=3&amp\;txobjid=66bb77b2-068d-478e-b753-4372d156f2b7">REGISTER</a><br />\n<br />\n<em>Cost per participant: Free</em></p>\n\n<p><span style="color:rgb(20\, 61\, 94)\; font-family:trebuchet ms\,geneva\,sans-serif\; font-size:10pt"><em>Contact email:&nbsp\;<a href="mailto:programs@mariamitchell.org" style="color: rgb(20\, 61\, 94)\; text-decoration-line: none\;" target="_blank">programs@mariamitchell.org</a></em></span></p>\n
LOCATION:4 Vestal St. Nantucket\, MA 02554
UID:e.2764.57527
SEQUENCE:3
DTSTAMP:20260421T181020Z
URL:http://business.nantucketchamber.org/events/details/full-moon-nature-walk-with-joanna-roche-05-31-2026-57527
END:VEVENT

END:VCALENDAR
