BEGIN:VCALENDAR
VERSION:2.0
PRODID:-//ChamberMaster//Event Calendar 2.0//EN
METHOD:PUBLISH
X-PUBLISHED-TTL:P3D
REFRESH-INTERVAL:P3D
CALSCALE:GREGORIAN
BEGIN:VEVENT
DTSTART:20260502T133000Z
DTEND:20260502T160000Z
X-MICROSOFT-CDO-ALLDAYEVENT:FALSE
SUMMARY:Keeper For a Day
DESCRIPTION:Have you ever wondered what it takes to care for reptiles\, amphibians\, fish\, and other fascinating creatures? Join MMA Naturalists as an animal keeper for a day and experience it firsthand! Participants will help prepare diets\, feed members of our living collection\, clean and refresh enclosures\, and learn how we keep our animal ambassadors healthy and thriving. Be ready to roll up your sleeves animal care can be a messy (but exciting!) job.\n\nSpace is limited to one group of up to two participants per session. Participants must wear closed-toe shoes throughout the program. This program is designed for children ages 10 15 and is a drop-off program. It meets at the Maria Mitchell Natural Science Museum\, 7 Milk St. Pre-registration is required\, and registration closes 24 hours before the program start time. The program begins and ends promptly at the scheduled time (9:30 AM 12:00 PM). We recommend bringing a snack and water\, as food and drink are not provided.\n\nCost: $100 per group (up to two participants)\n\nREGISTER\n\nContact email: ekermani@mariamitchell.org
X-ALT-DESC;FMTTYPE=text/html:<p>Have you ever wondered what it takes to care for reptiles\, amphibians\, fish\, and other fascinating creatures? Join MMA Naturalists as an animal keeper for a day and experience it firsthand! Participants will help prepare diets\, feed members of our living collection\, clean and refresh enclosures\, and learn how we keep our animal ambassadors healthy and thriving. Be ready to roll up your sleeves&mdash\;animal care can be a messy (but exciting!) job.</p>\n\n<p>Space is limited to <strong><strong>one group of up to two participants per session</strong></strong>. Participants must wear <strong><strong>closed-toe shoes</strong></strong> throughout the program. This program is designed for <strong><strong>children ages 10&ndash\;15</strong></strong> and is a <strong><strong>drop-off program</strong></strong>. It meets at the <strong><strong>Maria Mitchell Natural Science Museum\, 7 Milk St. Pre-registration is required</strong></strong>\, and registration closes <strong><strong>24 hours before the program start time</strong></strong>. The program begins and ends <strong><strong>promptly at the scheduled time (9:30 AM&ndash\;12:00 PM)</strong></strong>. We recommend bringing a snack and water\, as food and drink are not provided.</p>\n\n<p><strong><strong>Cost:</strong></strong> $100 per group (up to two participants)</p>\n\n<p><a class="editor-link" href="https://112458a.blackbaudhosting.com/112458a/tickets?tab=3&amp\;txobjid=afbdf4a6-117f-48ef-bc1f-db66eb0a74b1" target="_blank">REGISTER</a></p>\n\n<p><em><em>Contact email: </em></em><a class="editor-link" href="mailto:ekermani@mariamitchell.org"><em><em>ekermani@mariamitchell.org</em></em></a></p>\n
LOCATION:7 Milk St.
UID:e.2764.58361
SEQUENCE:3
DTSTAMP:20260423T054016Z
URL:http://business.nantucketchamber.org/events/details/keeper-for-a-day-58361
END:VEVENT

END:VCALENDAR
