BEGIN:VCALENDAR
VERSION:2.0
PRODID:-//ChamberMaster//Event Calendar 2.0//EN
METHOD:PUBLISH
X-PUBLISHED-TTL:P3D
REFRESH-INTERVAL:P3D
CALSCALE:GREGORIAN
BEGIN:VEVENT
DTSTART:20260509T003000Z
DTEND:20260509T013000Z
X-MICROSOFT-CDO-ALLDAYEVENT:FALSE
SUMMARY:"Look Up" at Loines Observatory
DESCRIPTION:Join our astronomers for an inspiring guided tour of the Nantucket night sky!  MMA staff will guide you in viewing astronomical objects through our historic 8-inch Alvan Clark refractor and our modern 24-inch research telescope.\n\nGet a chance to view the Moon\, planets\, star clusters\, nebulae\, and even other galaxies!  Bring your curiosity and get all your astronomy questions answered!  This interactive\, community-focused stargazing program is ideal for students\, educators\, and families especially young adults and K 12 learners curious about astronomy and the wonders above Nantucket.  Please see our calendar for days and times. \n\nLocation: Maria Mitchell Association's Loines Observatory\, 59 Milk Street Extension\n\nTime: Program begins promptly at the scheduled event time\n\nRegistration: Required in advance\n\nCost: Free for Nantucket Island residents\; $10 for non-residents\n\nContact: programs@mariamitchell.org\n\n\n\nREGISTER\n\nWe look forward to exploring the cosmos with you!
X-ALT-DESC;FMTTYPE=text/html:<p><span style="color:rgb(52\, 73\, 94)\; font-family:tahoma\,arial\,helvetica\,sans-serif\; font-size:10pt">Join our astronomers for an inspiring guided tour of the Nantucket night sky!&nbsp\;&nbsp\;MMA staff will guide you in viewing astronomical objects through our historic 8-inch Alvan Clark refractor and our modern 24-inch research telescope.</span></p>\n\n<p><span style="color:rgb(52\, 73\, 94)\; font-family:tahoma\,arial\,helvetica\,sans-serif\; font-size:10pt">Get a chance to view the Moon\, planets\, star clusters\, nebulae\, and even other galaxies!&nbsp\;&nbsp\;Bring your curiosity and get all your astronomy questions answered!&nbsp\;&nbsp\;This interactive\, community-focused stargazing program is ideal for students\, educators\, and families&mdash\;especially young adults and K&ndash\;12 learners curious about astronomy and the wonders above Nantucket.&nbsp\;&nbsp\;Please see our calendar for days and times.&nbsp\;</span></p>\n\n<p><span style="color:rgb(52\, 73\, 94)\; font-family:tahoma\,arial\,helvetica\,sans-serif\; font-size:10pt"><strong>Location:</strong>&nbsp\;Maria Mitchell Association&rsquo\;s Loines Observatory\, 59 Milk Street Extension</span><br />\n<span style="color:rgb(52\, 73\, 94)\; font-family:tahoma\,arial\,helvetica\,sans-serif\; font-size:10pt"><strong>Time:</strong>&nbsp\;Program begins promptly at the scheduled event time</span><br />\n<span style="color:rgb(52\, 73\, 94)\; font-family:tahoma\,arial\,helvetica\,sans-serif\; font-size:10pt"><strong>Registration:</strong>&nbsp\;Required in advance</span><br />\n<span style="color:rgb(52\, 73\, 94)\; font-family:tahoma\,arial\,helvetica\,sans-serif\; font-size:10pt"><strong>Cost:</strong>&nbsp\;Free for Nantucket Island residents\; $10 for non-residents</span><br />\n<span style="color:rgb(52\, 73\, 94)\; font-family:tahoma\,arial\,helvetica\,sans-serif\; font-size:10pt"><strong>Contact:</strong>&nbsp\;programs@mariamitchell.org</span><br />\n<br />\n<a href="https://112458a.blackbaudhosting.com/112458a/tickets?tab=3&amp\;txobjid=7a546367-f96b-4059-8a60-84e779e55eea">REGISTER</a></p>\n\n<p><span style="color:rgb(52\, 73\, 94)\; font-family:tahoma\,arial\,helvetica\,sans-serif\; font-size:10pt">We look forward to exploring the cosmos with you!</span></p>\n
LOCATION:59 Milk St. Ext. Nantucket\, MA 02554
UID:e.2764.57530
SEQUENCE:3
DTSTAMP:20260421T175756Z
URL:http://business.nantucketchamber.org/events/details/look-up-at-loines-observatory-05-08-2026-57530
END:VEVENT

END:VCALENDAR
