BEGIN:VCALENDAR
VERSION:2.0
PRODID:-//ChamberMaster//Event Calendar 2.0//EN
METHOD:PUBLISH
X-PUBLISHED-TTL:P3D
REFRESH-INTERVAL:P3D
CALSCALE:GREGORIAN
BEGIN:VEVENT
DTSTART:20260501T190000Z
DTEND:20260501T204500Z
X-MICROSOFT-CDO-ALLDAYEVENT:FALSE
SUMMARY:MMA Learning Lab: Metal Detecting 101\, with Nikoline Bohr
DESCRIPTION:This introductory workshop will guide you through the exciting world of metal detecting! The talk will explain the key principles of successful metal detecting such as metal detecting method\, understanding location\, ethics\, and gear. Followed by a display of both common and interesting finds and an interactive equipment demonstration. Whether you're a complete beginner or looking to refine your skills\, you'll learn the basics of how metal detectors work\, how to properly use and maintain equipment\, and how to safely and effectively search for treasures. \n\nThis program is designed to be interesting for adults. This program meets at the MMA Research Center\, 2 Vestal St. Nantucket MA. Pre-registration is required.\n\nREGISTER\n\nCost Per Participant: free\n\nContact email: programs@mariamitchell.org
X-ALT-DESC;FMTTYPE=text/html:<p><span style="color:rgb(52\, 73\, 94)\; font-family:trebuchet ms\,geneva\,sans-serif">This introductory workshop will guide you through the exciting world of metal detecting!&nbsp\;The talk will explain the key principles of successful metal detecting such as metal detecting method\, understanding location\, ethics\, and gear. Followed by a display of both common and interesting finds and an interactive equipment demonstration.&nbsp\;Whether you&#39\;re a complete beginner or looking to refine your skills\, you&#39\;ll learn the basics of how metal detectors work\, how to properly use and maintain equipment\, and how to safely and effectively search for treasures.&nbsp\;</span></p>\n\n<p><span style="color:rgb(52\, 73\, 94)\; font-family:trebuchet ms\,geneva\,sans-serif">This program is designed to be interesting for adults. This program meets at the MMA Research Center\, 2 Vestal St. Nantucket MA.&nbsp\;<em><strong>Pre-registration is required.</strong></em></span></p>\n\n<p><a href="https://112458a.blackbaudhosting.com/112458a/tickets?tab=3&amp\;txobjid=22cc0527-8d79-4d98-b842-593adf52284c">REGISTER</a></p>\n\n<p><span style="color:rgb(52\, 73\, 94)"><em>Cost Per Participant: free</em></span></p>\n\n<p><span style="color:rgb(52\, 73\, 94)"><em>Contact email:&nbsp\;<a href="mailto:igaw@mariamitchell.org" rel="noopener" style="color: rgb(52\, 73\, 94)\; text-decoration-line: none\;" target="_blank">programs@mariamitchell.org</a></em></span></p>\n
LOCATION:MMA Research Center\, 2 Vestal St. Nantucket MA
UID:e.2764.57522
SEQUENCE:3
DTSTAMP:20260420T034250Z
URL:http://business.nantucketchamber.org/events/details/mma-learning-lab-metal-detecting-101-with-nikoline-bohr-57522
END:VEVENT

END:VCALENDAR
