BEGIN:VCALENDAR
VERSION:2.0
PRODID:-//ChamberMaster//Event Calendar 2.0//EN
METHOD:PUBLISH
X-PUBLISHED-TTL:P3D
REFRESH-INTERVAL:P3D
CALSCALE:GREGORIAN
BEGIN:VEVENT
DTSTART:20260502T180000Z
DTEND:20260502T200000Z
X-MICROSOFT-CDO-ALLDAYEVENT:FALSE
SUMMARY:Nantucket Skating Club Spring Show
DESCRIPTION:The Nantucket Skating Club presents its Skate into Spring ice show\, featuring current skaters performing both solo and group numbers.\n\nAdmission is $10 for adults and $5 for students and seniors.\n\nFollowing the performance\, all attendees are invited to join the skaters on the ice for a fun open skate session.
X-ALT-DESC;FMTTYPE=text/html:<p>The Nantucket Skating Club presents its&nbsp\;<em>Skate into Spring</em> ice show\, featuring current skaters performing both solo and group numbers.</p>\n\n<p>Admission is $10 for adults and $5 for students and seniors.</p>\n\n<p>Following the performance\, all attendees are invited to join the skaters on the ice for a fun open skate session.</p>\n
LOCATION:Nantucket Ice Rink 10 Backus Lane Nantucket\, MA 02554
UID:e.2764.58342
SEQUENCE:3
DTSTAMP:20260419T205333Z
URL:http://business.nantucketchamber.org/events/details/nantucket-skating-club-spring-show-58342
END:VEVENT

END:VCALENDAR
