BEGIN:VCALENDAR
VERSION:2.0
PRODID:-//ChamberMaster//Event Calendar 2.0//EN
METHOD:PUBLISH
X-PUBLISHED-TTL:P3D
REFRESH-INTERVAL:P3D
CALSCALE:GREGORIAN
BEGIN:VEVENT
DTSTART:20260517T133000Z
DTEND:20260517T153000Z
X-MICROSOFT-CDO-ALLDAYEVENT:FALSE
SUMMARY:NCTV Free Filmmaking Workshop
DESCRIPTION:NCTV hosts a free community filmmaking workshop at the Dreamland Studio Theater designed to bring together aspiring and experienced creators from across Nantucket.\n\nParticipants will learn filmmaking fundamentals\, explore workshop ideas\, and connect with fellow community members interested in film and media production. The session also provides a valuable head start for those planning to create a Nantucket Shorts Festival submission.\n\nThis welcoming workshop celebrates local filmmaking and community arts while offering practical tools and collaborative opportunities.\n\nAdmission is FREE\, but participants must reserve a ticket in advance.\n\n\n\n?? Sunday\, May 17 | 9:30 AM
X-ALT-DESC;FMTTYPE=text/html:<p>NCTV hosts a free community filmmaking workshop at the Dreamland Studio Theater designed to bring together aspiring and experienced creators from across Nantucket.</p>\n\n<p>Participants will learn filmmaking fundamentals\, explore workshop ideas\, and connect with fellow community members interested in film and media production. The session also provides a valuable head start for those planning to create a Nantucket Shorts Festival submission.</p>\n\n<p>This welcoming workshop celebrates local filmmaking and community arts while offering practical tools and collaborative opportunities.</p>\n\n<p>Admission is FREE\, but participants must reserve a ticket in advance.<br />\n<br />\n?? Sunday\, May 17 | 9:30 AM</p>\n
LOCATION:Nantucket Dreamland 17 S. Water Street
UID:e.2764.58169
SEQUENCE:3
DTSTAMP:20260421T175750Z
URL:http://business.nantucketchamber.org/events/details/nctv-free-filmmaking-workshop-05-17-2026-58169
END:VEVENT

END:VCALENDAR
