BEGIN:VCALENDAR
VERSION:2.0
PRODID:-//ChamberMaster//Event Calendar 2.0//EN
METHOD:PUBLISH
X-PUBLISHED-TTL:P3D
REFRESH-INTERVAL:P3D
CALSCALE:GREGORIAN
BEGIN:VEVENT
DTSTART:20260425T000000Z
DTEND:20260425T010000Z
X-MICROSOFT-CDO-ALLDAYEVENT:FALSE
SUMMARY:POP UP! Stargazing at Loines Observatory
DESCRIPTION:Join our professional astronomers for Stargazing Open Nights at Loines Observatory. Get a chance to view an impressive tour of Nantucket's night sky. The MMA will host varying time sessions of Open Night Stargazing from June through November. Please see our calendar for days and times.\n\nMMA staff will guide you in viewing astronomical objects through our historic 8-inch Alvan Clark refractor and our modern 24-inch research telescope. Get a chance to view the Moon\, planets\, star clusters\, nebulae\, and even other galaxies! Learn about the cutting-edge research being conducted by Maria Mitchell Observatory astronomers and interns and get all your astronomy questions answered!\n\nThis program is designed for all ages. All registered children must be accompanied by a registered adult to participate in this program. This program meets at the MMA Loines Observatory at 59 Milk Street\, Nantucket MA.\n\nPre-registration is recommended as programs do fill up but walk-ins are welcome subject to availability. Program begins promptly at the event start time\, please arrive 10 minutes before the program start time as late arrivals may be turned away. Please dress for the weather conditions at the event time\, as this event takes place outside. This program is weather contingent and will be cancelled in the event of inclement weather (rain or thunderstorm threat). Please check our website on the day of the event for updates on weather related cancellations\, we will post a pop-up alert by 5pm if the program will be cancelled.\n\n*Members will see their discount at checkout in cart once logged into your online account.\n\nContact email: programs@mariamitchell.org\n\nCost per adult participant: $25\n\nCost per youth participant: $15\n\nREGISTER
X-ALT-DESC;FMTTYPE=text/html:<p>Join our professional astronomers for Stargazing Open Nights at Loines Observatory. Get a chance to view an impressive tour of Nantucket&rsquo\;s night sky. The MMA will host varying time sessions of Open Night Stargazing from June through November. Please see our calendar for days and times.</p>\n\n<p>MMA staff will guide you in viewing astronomical objects through our historic 8-inch Alvan Clark refractor and our modern 24-inch research telescope. Get a chance to view the Moon\, planets\, star clusters\, nebulae\, and even other galaxies! Learn about the cutting-edge research being conducted by Maria Mitchell Observatory astronomers and interns and get all your astronomy questions answered!</p>\n\n<p>This program is designed for all ages. All registered children must be accompanied by a registered adult to participate in this program. This program meets at the MMA Loines Observatory at 59 Milk Street\, Nantucket MA.</p>\n\n<p><strong>Pre-registration is recommended as programs do fill up but walk-ins are welcome subject to availability. Program begins promptly at the event start time\, please arrive 10 minutes before the program start time as late arrivals may be turned away. Please dress for the weather conditions at the event time\, as this event takes place outside. This program is weather contingent and will be cancelled in the event of inclement weather (rain or thunderstorm threat).</strong> Please check <a href="https://www.mariamitchell.org/" style="box-sizing: inherit\; background-color: transparent\; color: rgb(0\, 173\, 239)\; text-decoration-line: none\; outline: none\;" target="_blank">our website</a> on the day of the event for updates on weather related cancellations\, we will post a pop-up alert by 5pm if the program will be cancelled.</p>\n\n<p>*Members will see their discount at checkout in cart once logged into your online account.</p>\n\n<p>Contact email: <a href="mailto:programs@mariamitchell.org" style="box-sizing: inherit\; background-color: transparent\; color: rgb(0\, 173\, 239)\; text-decoration-line: none\; outline: none\;" target="_parent">programs@mariamitchell.org</a></p>\n\n<p>Cost per adult participant: $25</p>\n\n<p>Cost per youth participant: $15</p>\n\n<p><a href="https://112458a.blackbaudhosting.com/112458a/tickets?tab=3&amp\;txobjid=14791b8a-4a88-40aa-917b-68582c1086a9" style="box-sizing: inherit\; background-color: transparent\; color: rgb(0\, 173\, 239)\; text-decoration-line: none\; outline: none\;" target="_blank">REGISTER</a></p>\n
LOCATION:59 Milk Street Extension
UID:e.2764.57532
SEQUENCE:3
DTSTAMP:20260420T031641Z
URL:http://business.nantucketchamber.org/events/details/pop-up-stargazing-at-loines-observatory-57532
END:VEVENT

END:VCALENDAR
