BEGIN:VCALENDAR
VERSION:2.0
PRODID:-//ChamberMaster//Event Calendar 2.0//EN
METHOD:PUBLISH
X-PUBLISHED-TTL:P3D
REFRESH-INTERVAL:P3D
CALSCALE:GREGORIAN
BEGIN:VEVENT
DTSTART:20260528T153000Z
DTEND:20260528T173000Z
X-MICROSOFT-CDO-ALLDAYEVENT:FALSE
SUMMARY:Tito's Yappy Hour at Nantucket Wine Festival
DESCRIPTION:Join Nantucket Island Safe Harbor for Animals (NiSHA) for another Yappy Hour where we will have toys and treats for dogs and a little "hair of the dog" for their humans. Tito's has long been known for their charitable vision as the Vodka for Dog People. Their mission is to better the lives of pets and their families far and wide. This annual NWF fundraiser celebrates the island's love and support of dogs\, Tito's generosity and mission   and NiSHA's amazing dedication to our island animals. This is an official Nantucket Wine Festival event. We want to thank them for partnering with us and for their ongoing support!\n\n \n\n100% of your ticket sales and donations will go to NiSHA. Tito's Handmade Vodka will generously match all funds raised. Tickets are $25 per person. All friendly and leashed dogs are welcome.
X-ALT-DESC;FMTTYPE=text/html:<div>Join Nantucket Island Safe Harbor for Animals (NiSHA) for another Yappy Hour where we will have toys and treats for dogs and a little &ldquo\;hair of the dog&rdquo\; for their humans. Tito&rsquo\;s has long been known for their charitable vision as the Vodka for Dog People. Their mission is to better the lives of pets and their families far and wide. This annual NWF fundraiser celebrates the island&rsquo\;s love and support of dogs\, Tito&rsquo\;s generosity and mission &ndash\; and NiSHA&rsquo\;s amazing dedication to our island animals. This is an official Nantucket Wine Festival event. We want to thank them for partnering with us and for their ongoing support!<br />\n&nbsp\;</div>\n\n<div>100% of your ticket sales and donations will go to NiSHA. Tito&rsquo\;s Handmade Vodka will generously match all funds raised. Tickets are $25 per person. All friendly and leashed dogs are welcome.</div>\n
LOCATION:Bartlett's Farm at 33 Bartlett Farm Road\, Nantucket\, MA 02554
UID:e.2764.57506
SEQUENCE:3
DTSTAMP:20260421T182105Z
URL:http://business.nantucketchamber.org/events/details/tito-s-yappy-hour-at-nantucket-wine-festival-57506
END:VEVENT

END:VCALENDAR
