BEGIN:VCALENDAR
VERSION:2.0
PRODID:-//ChamberMaster//Event Calendar 2.0//EN
METHOD:PUBLISH
X-PUBLISHED-TTL:P3D
REFRESH-INTERVAL:P3D
CALSCALE:GREGORIAN
BEGIN:VEVENT
DTSTART;VALUE=DATE:20251205
DTEND;VALUE=DATE:20251208
TRANSP:TRANSPARENT
X-MICROSOFT-CDO-ALLDAYEVENT:TRUE
SUMMARY:51st Nantucket Christmas Stroll
DESCRIPTION:Nantucket is particularly enchanting during the holiday season\, when New England's finest traditions come alive for the 51st Nantucket Christmas Stroll\, December 5th - 7th\, 2025! Part of Nantucket Noel a months-long celebration\, this event is proudly organized by the Nantucket Island Chamber of Commerce.\n\n\n\nThe Nantucket Christmas Stroll is a community holiday celebration attracting visitors from around the world. Santa Claus arrives to the island via Coast Guard vessel and rides up Main Street in a jolly red fire truck accompanied by the Town Crier. Carolers in Victorian costumes\, magical talking Christmas Trees\, student choirs and other musicians perform on the Main Street stage as well as stroll through town performing\, all the while visitors can enjoy Nantucket's unique shops and restaurants.\n\n\n\nThe NIR/ Stop & Shop lot transforms into our Stroll Marketplace\, a European style holiday market highlighting local merchants\, vendors\, non-profits and more! Not to mention the various Nantucket Chamber member businesses many events\, sales and holiday happenings.  \n\n\n\nFor more information\, visit our Nantucket Christmas Stroll webpage.
X-ALT-DESC;FMTTYPE=text/html:<div style="text-align: center\;"><br />\n<span style="font-size:16px\;">Nantucket is particularly enchanting during the holiday season\, when New England&#39\;s finest traditions come alive for the <strong>51st&nbsp\;Nantucket Christmas Stroll</strong>\, December 5th&nbsp\;- 7th\, 2025!&nbsp\;Part of Nantucket Noel a months-long celebration\, this event is proudly&nbsp\;organized by the <strong>Nantucket Island Chamber of Commerce</strong>.<br />\n<br />\nThe<strong> Nantucket Christmas Stroll</strong>&nbsp\;is a community holiday celebration attracting visitors from around the world. Santa Claus arrives to the island via&nbsp\;Coast Guard vessel and rides up Main Street in a jolly red fire truck accompanied by the Town Crier. Carolers in Victorian costumes\, magical talking Christmas Trees\, student choirs and other musicians perform on the Main Street stage as well as stroll through town performing\, all the while visitors can enjoy Nantucket&#39\;s unique shops and restaurants.<br />\n<br />\nThe NIR/ Stop &amp\; Shop lot transforms into our Stroll Marketplace\, a European style holiday market highlighting local merchants\, vendors\, non-profits and more! Not to mention the various Nantucket Chamber member businesses many events\, sales and holiday happenings.&nbsp\;&nbsp\;<br />\n<br />\nFor more information\, visit our Nantucket Christmas Stroll&nbsp\;webpage.</span></div>\n
LOCATION:0 Main Street Nantucket\, MA
UID:e.2764.52650
SEQUENCE:3
DTSTAMP:20260425T173704Z
URL:https://business.nantucketchamber.org/events/details/51st-nantucket-christmas-stroll-52650
END:VEVENT

END:VCALENDAR
