BEGIN:VCALENDAR
VERSION:2.0
PRODID:-//ChamberMaster//Event Calendar 2.0//EN
METHOD:PUBLISH
X-PUBLISHED-TTL:P3D
REFRESH-INTERVAL:P3D
CALSCALE:GREGORIAN
BEGIN:VEVENT
DTSTART:20251206T150000Z
DTEND:20251206T200000Z
X-MICROSOFT-CDO-ALLDAYEVENT:FALSE
SUMMARY:51st Nantucket Christmas Stroll: Marketplace
DESCRIPTION:Nantucket Island Chamber of Commerce invites you to our 51st Nantucket Christmas Stroll: Marketplace\, Saturday\, December 6th\, 10:00 AM - 3:00 PM\, NIR/ Stop & Shop Lot\, 9 Salem Street.\n\n\n\nThe most anticipated market of the year is just around the corner! Shop the best Nantucket has to offer from a versatile group of Craftspeople\, Artist and Artisans\, Jewelers\, Photographers and Retailers to name a few. The marketplace also hosts a number of notable Nantucket based Non-profits and features an entire row dedicated to culinary creations from local Food Truck vendors and Restaurateurs. Every participant is a proud member of Nantucket Island Chamber of Commerce! There is no entry fee for patrons\, just come ready to shop 'til you drop!\n\n\nBusinesses\, Non-profits and Food Vendors interested in participating\, please register using the link to the right (must have login credentials\, call 508-228-1700 for assistance). Participation is exclusive to Nantucket Chamber members. Space is limited\, register today! \n\n\n\nFor questions\, email membership@nantucketchamber.org
X-ALT-DESC;FMTTYPE=text/html:<br />\n<br />\n<br />\n<br />\n<strong>Nantucket Island Chamber of Commerce</strong> invites you to our <strong>51st Nantucket Christmas Stroll: Marketplace\, Saturday\, December 6th\, 10:00 AM - 3:00 PM\, NIR/ Stop &amp\; Shop Lot\, 9 Salem Street.</strong><br />\n<br />\nThe most anticipated market of the year is just around the corner! Shop the best Nantucket has to offer from a versatile group of <strong>Craftspeople\, Artist and Artisans\, Jewelers\, Photographers</strong> and <strong>Retailers</strong> to name a few. The marketplace also hosts a number of notable Nantucket based <strong>Non-profits </strong>and features an entire row dedicated to culinary creations from local <strong>Food Truck</strong> vendors and <strong>Restaurateurs</strong>. Every participant is a proud member of Nantucket Island Chamber of Commerce! <strong>There is no entry fee for patrons\, just come ready to shop &#39\;til you drop!</strong>\n<div style="text-align: center\;"><br />\n<strong>Businesses\, Non-profits and Food Vendors interested in participating\, please register using the link to the right (must have login credentials\, call 508-228-1700 for assistance). Participation is exclusive to Nantucket Chamber members. Space is limited\, register today!&nbsp\;<br />\n<br />\nFor questions\, email membership@nantucketchamber.org</strong></div>\n
LOCATION:NIR/ Stop & Shop Lot 9 Salem Street
UID:e.2764.52652
SEQUENCE:3
DTSTAMP:20260421T101727Z
URL:https://business.nantucketchamber.org/events/details/51st-nantucket-christmas-stroll-marketplace-52652
END:VEVENT

END:VCALENDAR
