BEGIN:VCALENDAR
VERSION:2.0
PRODID:-//ChamberMaster//Event Calendar 2.0//EN
METHOD:PUBLISH
X-PUBLISHED-TTL:P3D
REFRESH-INTERVAL:P3D
CALSCALE:GREGORIAN
BEGIN:VEVENT
DTSTART:20251207T150000Z
DTEND:20251207T220000Z
X-MICROSOFT-CDO-ALLDAYEVENT:FALSE
SUMMARY:ACK 4170 Stroll Pop-Up Shop
DESCRIPTION:~ ACK 4170 Stroll Pop-Up Shop ~\n\n\n\nFriday & Sunday\, December 5 & 7 (10am to 5pm)\n\nDREAMLAND Theatre\n\nWeather Permitting: Outside (Behind the Dreamland) Facing the Easy Street Boat Basin\n\n10 am to 5pm\n\n?Inclement Weather: Inside the Dreamland Theatre (lobby) 17 South Water Street\n\n\n\nWe will be featuring our Nantucket Christmas Stroll Candles\, Stroll Merch: Totes\, Tumblers\, Ornaments! Holiday Cards too! Stop by and say hello! We can't wait to see you! Or\, shop online at: ack4170.com
X-ALT-DESC;FMTTYPE=text/html:~ ACK 4170 Stroll Pop-Up Shop ~<br />\n<br />\nFriday &amp\; Sunday\, December 5 &amp\; 7 (10am to 5pm)<br />\nDREAMLAND Theatre<br />\nWeather Permitting: Outside (Behind the Dreamland) Facing the Easy Street Boat Basin<br />\n10 am to 5pm<br />\n?Inclement Weather: Inside the Dreamland Theatre (lobby) 17 South Water Street<br />\n<br />\nWe will be featuring our Nantucket Christmas Stroll Candles\, Stroll Merch: Totes\, Tumblers\, Ornaments! Holiday Cards too! Stop by and say hello! We can&#39\;t wait to see you! Or\, shop online at: ack4170.com
LOCATION:
UID:e.2764.53464
SEQUENCE:3
DTSTAMP:20260421T143838Z
URL:https://business.nantucketchamber.org/events/details/ack-4170-stroll-pop-up-shop-12-07-2025-53464
END:VEVENT

END:VCALENDAR
