BEGIN:VCALENDAR
VERSION:2.0
PRODID:-//ChamberMaster//Event Calendar 2.0//EN
METHOD:PUBLISH
X-PUBLISHED-TTL:P3D
REFRESH-INTERVAL:P3D
CALSCALE:GREGORIAN
BEGIN:VEVENT
DTSTART:20260502T143000Z
DTEND:20260502T160000Z
X-MICROSOFT-CDO-ALLDAYEVENT:FALSE
SUMMARY:Cinema for the Very Young
DESCRIPTION:Every Tuesday and Saturday morning at 10:30am\, please join us with your little ones for a sensory-friendly Rated G or All Ages screening of a film/series (titles will not be announced in advance). Tickets are free and available online or at the box office. All children in attendance must be accompanied by a parent or caregiver throughout the 90 minute program. Lights will be left on at medium strength and the volume of the screening turned down to a moderate level to accommodate and encourage socialization. \n\nFunding for free admission provided by The Nantucket Fund at the Community Foundation for Nantucket and The Remain Fund at the Community Foundation for Nantucket.
X-ALT-DESC;FMTTYPE=text/html:<p>Every Tuesday and Saturday morning at 10:30am\, please join us with your little ones for a sensory-friendly Rated G or All Ages screening of a film/series (titles will not be announced in advance). Tickets are free and available online or at the box office. All children in attendance must be accompanied by a parent or caregiver throughout the&nbsp\;90 minute&nbsp\;program. Lights will be left on at medium strength and the volume of the screening turned down to a moderate level to accommodate and encourage socialization.&nbsp\;</p>\n\n<p>Funding for free admission provided by&nbsp\;<strong>The Nantucket Fund</strong>&nbsp\;at the Community Foundation for Nantucket and&nbsp\;<strong>The Remain Fund</strong>&nbsp\;at the Community Foundation for Nantucket.</p>\n
LOCATION:Nantucket Dreamland 17. S Water St
UID:e.2764.57809
SEQUENCE:3
DTSTAMP:20260419T223636Z
URL:https://business.nantucketchamber.org/events/details/cinema-for-the-very-young-05-02-2026-57809
END:VEVENT

END:VCALENDAR
