BEGIN:VCALENDAR
VERSION:2.0
PRODID:-//ChamberMaster//Event Calendar 2.0//EN
METHOD:PUBLISH
X-PUBLISHED-TTL:P3D
REFRESH-INTERVAL:P3D
CALSCALE:GREGORIAN
BEGIN:VEVENT
DTSTART:20260517T160000Z
DTEND:20260517T190000Z
X-MICROSOFT-CDO-ALLDAYEVENT:FALSE
SUMMARY:Dinghy Day
DESCRIPTION:Nantucket Community Sailing is hosting a fundraiser at Cisco Brewers on Sunday\, May 17th from 12pm - 3pm\, and we'd love to see you there! \n\n						 \n\n						Dinghy Day is a chance to bring together Nantucket locals\, NCS families\, NCS friends old and new\, and Nantucket High School sailors and families to kick off the sailing season together. Every dollar raised goes directly back into our programs and scholarship fund\, which helps make sure that local youth can get on the water regardless of cost.\n\n						 \n\n						With activities for the whole family\, you're bound to have a blast!\n						\n						\n					\n				\n			\n			\n			\n			\n			\n			\n		\n	\n\n\n\n\n\n	\n		\n			\n			\n			\n			\n			\n			\n				\n					\n						\n						\n							\n								\n									\n									 \n									\n								\n							\n						\n						\n					\n				\n			\n			\n			\n			\n			\n			\n		\n	\n\n\n\n\n\n	\n		\n			\n			\n			\n			\n			\n			\n				\n					\n						\n						\n						Event Activities\n\n						\n							Live music from Local Notes\n							Prize Wheel\n							\n								featuring vintage NCS merch\, Yeti products\, Gill products\, and more!\n							\n							\n							Kids Zone\n							\n								featuring a color station\, knot tying\, and 2 of our plastic Opti's!\n							\n							\n							Raffle\n							\n								featuring swag bags for NCS merch and Nantucket Race Week merch\, Yeti products\, Gill products\, rental bookings\, a 2-week Jetties Sailing Center membership\, and more!\n							\n							\n							Merchandise table\n							\n								featuring brand new NCS merchandise to set you up for success this sailing season
X-ALT-DESC;FMTTYPE=text/html:<div style="text-align:center">\n<table align="center" border="0" cellpadding="0" cellspacing="0" style="background:transparent\; border-collapse:collapse\; width:600px">\n	<tbody>\n		<tr>\n			<td style="vertical-align:top">\n			<div>\n			<div style="text-align:left">\n			<div>\n			<div>\n			<table border="0" cellpadding="0" style="border-collapse:collapse\; color:inherit\; max-width:100%\; table-layout:fixed\; vertical-align:top\; width:600px">\n				<tbody>\n					<tr>\n						<td>\n						<div>\n						<div>Nantucket Community Sailing is hosting a fundraiser at Cisco Brewers on Sunday\, May 17th from 12pm - 3pm\, and we&#39\;d love to see you there!&nbsp\;</div>\n\n						<div>&nbsp\;</div>\n\n						<div>Dinghy Day is a chance to bring together Nantucket locals\, NCS families\, NCS friends old and new\, and Nantucket High School sailors and families to kick off the sailing season together. Every dollar raised goes directly back into our programs and scholarship fund\, which helps make sure that local youth can get on the water regardless of cost.</div>\n\n						<div>&nbsp\;</div>\n\n						<div>With activities for the whole family\, you&#39\;re bound to have a blast!</div>\n						</div>\n						</td>\n					</tr>\n				</tbody>\n			</table>\n			</div>\n			</div>\n			</div>\n			</div>\n			</td>\n		</tr>\n	</tbody>\n</table>\n</div>\n\n<div style="text-align:center">\n<table align="center" border="0" cellpadding="0" cellspacing="0" style="background:transparent\; border-collapse:collapse\; width:600px">\n	<tbody>\n		<tr>\n			<td style="vertical-align:middle">\n			<div>\n			<div style="text-align:left">\n			<div>\n			<div>\n			<table border="0" cellpadding="0" style="border-collapse:collapse\; color:inherit\; max-width:100%\; table-layout:fixed\; width:600px">\n				<tbody>\n					<tr>\n						<td>\n						<table border="0" cellpadding="0" cellspacing="0" style="border-collapse:collapse\; width:600px">\n							<tbody>\n								<tr>\n									<td style="vertical-align:top">\n									<div>&nbsp\;</div>\n									</td>\n								</tr>\n							</tbody>\n						</table>\n						</td>\n					</tr>\n				</tbody>\n			</table>\n			</div>\n			</div>\n			</div>\n			</div>\n			</td>\n		</tr>\n	</tbody>\n</table>\n</div>\n\n<div style="text-align:center">\n<table align="center" border="0" cellpadding="0" cellspacing="0" style="background:transparent\; border-collapse:collapse\; width:600px">\n	<tbody>\n		<tr>\n			<td style="vertical-align:top">\n			<div>\n			<div style="text-align:left">\n			<div>\n			<div>\n			<table border="0" cellpadding="0" style="border-collapse:collapse\; color:inherit\; max-width:100%\; table-layout:fixed\; vertical-align:top\; width:600px">\n				<tbody>\n					<tr>\n						<td>\n						<div>\n						<div style="text-align:center"><span style="font-size:16px"><strong>Event Activities</strong></span></div>\n\n						<ul>\n							<li>Live music from Local Notes</li>\n							<li>Prize Wheel\n							<ul>\n								<li>featuring vintage NCS merch\, Yeti products\, Gill products\, and more!</li>\n							</ul>\n							</li>\n							<li>Kids Zone\n							<ul>\n								<li>featuring a color station\, knot tying\, and 2 of our plastic Opti&#39\;s!</li>\n							</ul>\n							</li>\n							<li>Raffle\n							<ul>\n								<li>featuring swag bags for NCS merch and Nantucket Race Week merch\, Yeti products\, Gill products\, rental bookings\, a 2-week Jetties Sailing Center membership\, and more!</li>\n							</ul>\n							</li>\n							<li>Merchandise table\n							<ul>\n								<li>featuring brand new NCS merchandise to set you up for success this sailing season</li>\n							</ul>\n							</li>\n						</ul>\n						</div>\n						</td>\n					</tr>\n				</tbody>\n			</table>\n			</div>\n			</div>\n			</div>\n			</div>\n			</td>\n		</tr>\n	</tbody>\n</table>\n</div>\n
LOCATION:Cisco Brewers\, 5 Bartlett Farm Road
UID:e.2764.58362
SEQUENCE:3
DTSTAMP:20260423T150650Z
URL:https://business.nantucketchamber.org/events/details/dinghy-day-58362
END:VEVENT

END:VCALENDAR
