BEGIN:VCALENDAR
VERSION:2.0
PRODID:-//ChamberMaster//Event Calendar 2.0//EN
METHOD:PUBLISH
X-PUBLISHED-TTL:P3D
REFRESH-INTERVAL:P3D
CALSCALE:GREGORIAN
BEGIN:VEVENT
DTSTART:20260422T230000Z
DTEND:20260423T013000Z
X-MICROSOFT-CDO-ALLDAYEVENT:FALSE
SUMMARY:Film for Thought: "Cresta Alta" & Earth Day Community Panel
DESCRIPTION:Earth Day Event: Film Screening and Community Panel\n\nWednesday\, April 22 at 7:00 PM\n\n\n\nThis Earth Day\, join us for a special Film for Thought screening of Cresta Alta\, an independent documentary chronicling scientific expeditions to Alaska\, Iceland\, Chile\, and Peru to study glacial change and sustainability solutions.\n\n\n\nThe evening begins with a director meet-and-greet at 6:30 PM\, followed by a welcome from filmmaker Todd Anders Johnson\, the film\, and a panel discussion featuring local sustainability leaders from The Trustees\, Nantucket Land & Water Council\, The Town of Nantucket\, and Sustainable Nantucket\, including a video message from MA State Senator Julian Cyr.\n\n\n\nMembers FREE | General $20 (=$17 ticket + $3 service fee)\n\n\n\nPresented by Remain Nantucket in partnership with The Trustees\, The Town of Nantucket\, Nantucket Land & Water Council\, and Sustainable Nantucket\, with support from White Elephant Resorts.\n\n\n\nGet your tickets today at nantucketdreamland.org
X-ALT-DESC;FMTTYPE=text/html:Earth Day Event: Film Screening and Community Panel<br />\nWednesday\, April 22 at 7:00 PM<br />\n<br />\nThis Earth Day\, join us for a special&nbsp\;<em>Film for Thought</em> screening of <em>Cresta Alta</em>\, an independent documentary chronicling scientific expeditions to Alaska\, Iceland\, Chile\, and Peru to study glacial change and sustainability solutions.<br />\n<br />\nThe evening begins with a director meet-and-greet at 6:30 PM\, followed by a welcome from filmmaker Todd Anders Johnson\, the film\, and a panel discussion featuring local sustainability leaders from The Trustees\, Nantucket Land &amp\; Water Council\, The Town of Nantucket\, and Sustainable Nantucket\, including a video message from MA State Senator Julian Cyr.<br />\n<br />\nMembers FREE | General $20 (=$17 ticket + $3 service fee)<br />\n<br />\nPresented by Remain Nantucket in partnership with The Trustees\, The Town of Nantucket\, Nantucket Land &amp\; Water Council\, and Sustainable Nantucket\, with support from White Elephant Resorts.<br />\n<br />\nGet your tickets today at nantucketdreamland.org
LOCATION:Nantucket Dreamland 17 S. Water Street
UID:e.2764.58339
SEQUENCE:3
DTSTAMP:20260419T223031Z
URL:https://business.nantucketchamber.org/events/details/film-for-thought-cresta-alta-earth-day-community-panel-58339
END:VEVENT

END:VCALENDAR
