BEGIN:VCALENDAR
VERSION:2.0
PRODID:-//ChamberMaster//Event Calendar 2.0//EN
METHOD:PUBLISH
X-PUBLISHED-TTL:P3D
REFRESH-INTERVAL:P3D
CALSCALE:GREGORIAN
BEGIN:VEVENT
DTSTART:20260429T230000Z
DTEND:20260430T013000Z
X-MICROSOFT-CDO-ALLDAYEVENT:FALSE
SUMMARY:Film for Thought: Power to the People
DESCRIPTION:Nantucket Dreamland presents Power To The People: John & Yoko Live in NYC\, the newly restored 2026 multiscreen concert film of two sold-out One To One shows performed by John Lennon and Yoko Ono at Madison Square Garden on August 30\, 1972. These were the only full-length concerts John Lennon performed after leaving The Beatles\, drawing a combined audience of 40\,000 and raising over $1.5 million for children with intellectual and developmental disabilities.\n\nRe-edited and remixed by a seven-times GRAMMY Award-winning team and produced by Sean Ono Lennon\, the film features John & Yoko/Plastic Ono Band with Elephant's Memory and an extraordinary lineup of special guests including Stevie Wonder and Melanie. The setlist spans some of the most iconic songs in rock history\, including "Imagine\," "Instant Karma!\," "Come Together\," "Hound Dog\," and a closing encore of "Give Peace a Chance."\n\nScreening on Wednesday\, April 29 at 7 PM. Members FREE | $20 General Admission ($17 ticket + $3 service fee). Get your tickets at nantucketdreamland.org.
X-ALT-DESC;FMTTYPE=text/html:<p>Nantucket Dreamland presents&nbsp\;<em>Power To The People: John &amp\; Yoko Live in NYC</em>\, the newly restored 2026 multiscreen concert film of two sold-out One To One shows performed by John Lennon and Yoko Ono at Madison Square Garden on August 30\, 1972. These were the only full-length concerts John Lennon performed after leaving The Beatles\, drawing a combined audience of 40\,000 and raising over $1.5 million for children with intellectual and developmental disabilities.</p>\n\n<p>Re-edited and remixed by a seven-times GRAMMY Award-winning team and produced by Sean Ono Lennon\, the film features John &amp\; Yoko/Plastic Ono Band with Elephant&#39\;s Memory and an extraordinary lineup of special guests including Stevie Wonder and Melanie. The setlist spans some of the most iconic songs in rock history\, including &quot\;Imagine\,&quot\; &quot\;Instant Karma!\,&quot\; &quot\;Come Together\,&quot\; &quot\;Hound Dog\,&quot\; and a closing encore of &quot\;Give Peace a Chance.&quot\;</p>\n\n<p>Screening on Wednesday\, April 29 at 7 PM. Members FREE | $20 General Admission ($17 ticket + $3 service fee). Get your tickets at nantucketdreamland.org.</p>\n
LOCATION:Nantucket Dreamland 17 S. Water St
UID:e.2764.58340
SEQUENCE:3
DTSTAMP:20260419T230918Z
URL:https://business.nantucketchamber.org/events/details/film-for-thought-power-to-the-people-58340
END:VEVENT

END:VCALENDAR
