BEGIN:VCALENDAR
VERSION:2.0
PRODID:-//ChamberMaster//Event Calendar 2.0//EN
METHOD:PUBLISH
X-PUBLISHED-TTL:P3D
REFRESH-INTERVAL:P3D
CALSCALE:GREGORIAN
BEGIN:VEVENT
DTSTART:20330710T140000Z
DTEND:20330710T150000Z
X-MICROSOFT-CDO-ALLDAYEVENT:FALSE
SUMMARY:First Congregational Church Rose Sunday Worship Service
DESCRIPTION:Join us for this special Sunday Worship service to celebrate the beauty of Nantucket's climbing wild roses.
X-ALT-DESC;FMTTYPE=text/html:Join us for this special Sunday Worship service to celebrate the beauty of Nantucket&#39\;s climbing wild roses.&nbsp\;&nbsp\;
LOCATION:https://goo.gl/maps/YsLMBdTbC4nQ2k6T8
UID:e.2764.37053
SEQUENCE:3
DTSTAMP:20260425T163739Z
URL:https://business.nantucketchamber.org/events/details/first-congregational-church-rose-sunday-worship-service-07-10-2033-37053
END:VEVENT

END:VCALENDAR
