BEGIN:VCALENDAR
VERSION:2.0
PRODID:-//ChamberMaster//Event Calendar 2.0//EN
METHOD:PUBLISH
X-PUBLISHED-TTL:P3D
REFRESH-INTERVAL:P3D
CALSCALE:GREGORIAN
BEGIN:VEVENT
DTSTART:20250709T190000Z
DTEND:20250709T210000Z
X-MICROSOFT-CDO-ALLDAYEVENT:FALSE
SUMMARY:Cabarnet BVS Red Blends / WINE WEDNESDAYS food and wine tasting classes Paired with a late lunch hosted by Advanced Sommelier\, WSET III and Master's candidate Jordana
DESCRIPTION:Every Wednesday: July 2nd - September 24th\n\nTime: 3 PM - 5 PM\n\n\n\nJoin an Advanced Sommelier and WSET III-Jordana this summer to enhance your wine knowledge in a fun\, small group setting. Our classes provide a global look at grapes\, styles\, and varietals\, focusing on tasting techniques and the stories behind each bottle. We will explore climate\, soil\, and challenges that shape wines\, along with food pairings to elevate your experience.\n\n\n\n Price:  $185.00 plus tax\, limited to 10 guests. \n\nClass Schedule: -\n\nJuly 2 & August 13 - Sauvignon Blanc:  Dive into the diverse flavors of this popular grape influenced by its environment. \n\n\n\nJuly 9 & August 6 - Ros : Enjoy a global tasting of Ros s while discovering different varietals and perfect pairings.\n\n \n\nJuly 16 & August 20 - Chardonnay:  Experience the magic of Chardonnay\, exploring its styles and winemaking techniques. \n\n\n\nJuly 23 & August 27 & September 17 - Pinot Noir: Savor Pinot Noirs worldwide and learn how growing conditions affect flavor.  \n\n\n\nJuly 30 & September 3 - Sparkling Wines & Champagne: Discover the world of sparkling wines\, including how to pair bubbles with various meals. \n\n\n\nSeptember 10TH  LUNCHEON 3 PM-5 PM\n\nSEPTEMBER 23rd Dinner  - Red Blends vs. Cabernet Sauvignon: Learn about this iconic grape and the blends featuring it while tasting various vintages. May your glass and your heart always be full!\n\n \n\nTickets on sale on the Company of the Caudron website -www.companyofthecaudron.com
X-ALT-DESC;FMTTYPE=text/html:Every Wednesday: July 2nd - September 24th<br />\nTime: 3 PM - 5 PM<br />\n<br />\nJoin an Advanced Sommelier and WSET III-Jordana this summer to enhance your wine knowledge in a fun\, small group setting. Our classes provide a global look at grapes\, styles\, and varietals\, focusing on tasting techniques and the stories behind each bottle. We will explore climate\, soil\, and challenges that shape wines\, along with food pairings to elevate your experience.<br />\n<br />\n&nbsp\;Price:&nbsp\;&nbsp\;$185.00 plus tax\, limited to 10 guests.&nbsp\;<br />\nClass Schedule: -<br />\nJuly 2 &amp\; August 13 - Sauvignon Blanc:&nbsp\;&nbsp\;Dive into the diverse flavors of this popular grape influenced by its environment.&nbsp\;<br />\n<br />\nJuly 9 &amp\; August 6 - Ros&eacute\;: Enjoy a global tasting of Ros&eacute\;s while discovering different varietals and perfect pairings.<br />\n&nbsp\;<br />\nJuly 16 &amp\; August 20 - Chardonnay:&nbsp\;&nbsp\;Experience the magic of Chardonnay\, exploring its styles and winemaking techniques.&nbsp\;<br />\n<br />\nJuly 23 &amp\; August 27 &amp\; September 17 - Pinot Noir: Savor Pinot Noirs worldwide and learn how growing conditions affect flavor. &nbsp\;<br />\n<br />\nJuly 30 &amp\; September 3 - Sparkling Wines &amp\; Champagne: Discover the world of sparkling wines\, including how to pair bubbles with various meals.&nbsp\;<br />\n<br />\nSeptember 10TH &nbsp\;LUNCHEON 3 PM-5 PM<br />\nSEPTEMBER&nbsp\;23rd Dinner&nbsp\;&nbsp\;- Red Blends vs. Cabernet Sauvignon: Learn about this iconic grape and the blends featuring it while tasting various vintages. May your glass and your heart always be full!<br />\n&nbsp\;<br />\nTickets on sale on the Company of the Caudron website -www.companyofthecaudron.com&nbsp\;
LOCATION:The Company of the Cauldron 5 India Street Nantucket\, MA 02554
UID:e.2764.48580
SEQUENCE:3
DTSTAMP:20260421T084756Z
URL:https://business.nantucketchamber.org/events/details/july-2nd-sauvignon-blanc-wine-wednesdays-food-and-wine-tasting-classes-with-advanced-sommelier-wset-iii-and-master-s-candidate-jordana-48580
END:VEVENT

END:VCALENDAR
