BEGIN:VCALENDAR
VERSION:2.0
PRODID:-//ChamberMaster//Event Calendar 2.0//EN
METHOD:PUBLISH
X-PUBLISHED-TTL:P3D
REFRESH-INTERVAL:P3D
CALSCALE:GREGORIAN
BEGIN:VEVENT
DTSTART:20260425T210000Z
DTEND:20260426T000000Z
X-MICROSOFT-CDO-ALLDAYEVENT:FALSE
SUMMARY:Live Piano with Jepthe at The Nantucket Hotel
DESCRIPTION:Join us for dinner at The Nantucket Hotel with live piano from Jepthe
X-ALT-DESC;FMTTYPE=text/html:Join us for dinner at The Nantucket Hotel with live piano from Jepthe
LOCATION:The Nantucket Hotel
UID:e.2764.58165
SEQUENCE:3
DTSTAMP:20260423T123533Z
URL:https://business.nantucketchamber.org/events/details/live-piano-with-jepthe-at-the-nantucket-hotel-58165
END:VEVENT

END:VCALENDAR
