BEGIN:VCALENDAR
VERSION:2.0
PRODID:-//ChamberMaster//Event Calendar 2.0//EN
METHOD:PUBLISH
X-PUBLISHED-TTL:P3D
REFRESH-INTERVAL:P3D
CALSCALE:GREGORIAN
BEGIN:VEVENT
DTSTART:20260425T223000Z
DTEND:20260426T003000Z
X-MICROSOFT-CDO-ALLDAYEVENT:FALSE
SUMMARY:Nantucket Hotel's Daffy Hour - Live Music on the Front Porch
DESCRIPTION:Join us for Daffy Hour on our front porch and enjoy live vocals and piano with Nicole and Jepthe.
X-ALT-DESC;FMTTYPE=text/html:Join us for Daffy Hour on our front porch and enjoy live vocals and piano with Nicole and Jepthe.&nbsp\;
LOCATION:
UID:e.2764.58164
SEQUENCE:3
DTSTAMP:20260423T131127Z
URL:https://business.nantucketchamber.org/events/details/nantucket-hotel-s-daffy-hour-live-music-on-the-front-porch-58164
END:VEVENT

END:VCALENDAR
