BEGIN:VCALENDAR
VERSION:2.0
PRODID:-//ChamberMaster//Event Calendar 2.0//EN
METHOD:PUBLISH
X-PUBLISHED-TTL:P3D
REFRESH-INTERVAL:P3D
CALSCALE:GREGORIAN
BEGIN:VEVENT
DTSTART:20260426T133000Z
DTEND:20260426T163000Z
X-MICROSOFT-CDO-ALLDAYEVENT:FALSE
SUMMARY:Sunday Brunch and Live Music at The Nantucket Hotel
DESCRIPTION:Sunday Brunch at The Nantucket Hotel \n\n9:30 AM 12:30 PM Michaela Mofsen Guitarist\; Live on the Front Porch for Brunch
X-ALT-DESC;FMTTYPE=text/html:<h3>Sunday Brunch at The Nantucket Hotel&nbsp\;<br />\n9:30 AM&ndash\;12:30 PM Michaela Mofsen Guitarist\; Live on the Front Porch for Brunch</h3>\n
LOCATION:The Nantucket Hotel
UID:e.2764.58173
SEQUENCE:3
DTSTAMP:20260423T124233Z
URL:https://business.nantucketchamber.org/events/details/sunday-brunch-and-live-music-at-the-nantucket-hotel-58173
END:VEVENT

END:VCALENDAR
