BEGIN:VCALENDAR
VERSION:2.0
PRODID:-//ChamberMaster//Event Calendar 2.0//EN
METHOD:PUBLISH
X-PUBLISHED-TTL:P3D
REFRESH-INTERVAL:P3D
CALSCALE:GREGORIAN
BEGIN:VEVENT
DTSTART:20250909T180000Z
DTEND:20250909T183000Z
X-MICROSOFT-CDO-ALLDAYEVENT:FALSE
SUMMARY:Tony Tuesdays
DESCRIPTION:Join Egan Maritime and Collections Manager Tony Dumitru for a weekly artifact "show-and-tell" geared toward teens and adults\, though curious kids are always welcome. Tony shares fascinating stories behind unique pieces from the museum's collection. Weekly topic listed in the attached calendar.
X-ALT-DESC;FMTTYPE=text/html:<p><span style="background-color:transparent\; color:rgb(0\, 0\, 0)\; font-family:arial\,sans-serif\; font-size:11pt">Join Egan Maritime and Collections Manager Tony Dumitru for a weekly artifact &ldquo\;show-and-tell&rdquo\; geared toward teens and adults\, though curious kids are always welcome. Tony shares fascinating stories behind unique pieces from the museum&rsquo\;s collection. Weekly topic listed in the attached calendar.</span></p>\n\n<div>&nbsp\;</div>\n
LOCATION:Shipwreck and Lifesaving Museum 158 Polpis Rd\, Nantucket\, MA 02554
UID:e.2764.52128
SEQUENCE:3
DTSTAMP:20260421T084311Z
URL:https://business.nantucketchamber.org/events/details/tony-tuesdays-09-09-2025-52128
END:VEVENT

END:VCALENDAR
